BEGIN:VCALENDAR
VERSION:2.0
PRODID:-//ChamberMaster//Event Calendar 2.0//EN
METHOD:PUBLISH
X-PUBLISHED-TTL:P3D
REFRESH-INTERVAL:P3D
CALSCALE:GREGORIAN
BEGIN:VEVENT
DTSTART:20260308T180000Z
DTEND:20260308T190000Z
X-MICROSOFT-CDO-ALLDAYEVENT:FALSE
SUMMARY:AFRICAN AMERICAN TRAILBLAZERS: Women's History Month Edition
DESCRIPTION:A ranger-led program celebrating the accomplishments and bravery of African American women
X-ALT-DESC;FMTTYPE=text/html:<span style="font-size:18.6667px">A ranger-led program celebrating the accomplishments and bravery of African American women</span>
LOCATION:George Washington Carver NM 5646 Carver Rd. Diamond MO 64840
UID:e.2144.18867
SEQUENCE:3
DTSTAMP:20260421T163436Z
URL:https://neoshocc.com/events/details/african-american-trailblazers-women-s-history-month-edition-03-08-2026-18867
END:VEVENT

END:VCALENDAR
