BEGIN:VCALENDAR
VERSION:2.0
PRODID:-//ChamberMaster//Event Calendar 2.0//EN
METHOD:PUBLISH
X-PUBLISHED-TTL:P3D
REFRESH-INTERVAL:P3D
CALSCALE:GREGORIAN
BEGIN:VEVENT
DTSTART:20260428T173000Z
DTEND:20260428T200000Z
X-MICROSOFT-CDO-ALLDAYEVENT:FALSE
SUMMARY:Adult Craft Event
DESCRIPTION:Join us for a fun spring themed craft at the Seneca Library! Make sure to register on our website calendar link down below to reserve your spot- there's only 15 seats available.\n\n\n\nhttps://neoshonewton.librarycalendar.com/event/adult-craft-event-3301
X-ALT-DESC;FMTTYPE=text/html:Join us for a fun spring themed craft at the Seneca Library! Make sure to register on our website calendar link down below to reserve your spot- there&#39\;s only 15 seats available.<br />\n<br />\n<a class="publish_link_FBzWV publish_external_6f-Tu" href="https://neoshonewton.librarycalendar.com/event/adult-craft-event-3301" rel="noopener noreferrer" target="_blank">https://neoshonewton.librarycalendar.com/event/adult-craft-event-3301</a>
LOCATION:1216 Cherokee Seneca\, MO 64865
UID:e.2144.19751
SEQUENCE:3
DTSTAMP:20260420T030408Z
URL:https://neoshocc.com/events/details/adult-craft-event-19751
END:VEVENT

END:VCALENDAR
