BEGIN:VCALENDAR
VERSION:2.0
PRODID:-//ChamberMaster//Event Calendar 2.0//EN
METHOD:PUBLISH
X-PUBLISHED-TTL:P3D
REFRESH-INTERVAL:P3D
CALSCALE:GREGORIAN
BEGIN:VEVENT
DTSTART:20260330T183000Z
DTEND:20260331T023000Z
X-MICROSOFT-CDO-ALLDAYEVENT:FALSE
SUMMARY:Adult Craft Day
DESCRIPTION:Adult Craft Day!! at the Neosho Newton County Library!\n\n\n\nJoin us for a spring themed craft! Make sure to register on our website calendar to reserve your spot. Act quick-there are only 25 seats available per session!\n\n\n\nSee you all then!!
X-ALT-DESC;FMTTYPE=text/html:Adult Craft Day!! at the Neosho Newton County Library!<br />\n<br />\nJoin us for a spring themed craft! Make sure to register on our website calendar to reserve your spot. Act quick-there are only 25 seats available per session!<br />\n<br />\nSee you all then!!
LOCATION:201 W Spring St Neosho\, MO 64843
UID:e.2144.19230
SEQUENCE:3
DTSTAMP:20260421T163613Z
URL:https://neoshocc.com/events/details/adult-craft-day-03-30-2026-19230
END:VEVENT

END:VCALENDAR
