BEGIN:VCALENDAR
VERSION:2.0
PRODID:-//ChamberMaster//Event Calendar 2.0//EN
METHOD:PUBLISH
X-PUBLISHED-TTL:P3D
REFRESH-INTERVAL:P3D
CALSCALE:GREGORIAN
BEGIN:VEVENT
DTSTART;VALUE=DATE:20260601
DTEND;VALUE=DATE:20260602
TRANSP:TRANSPARENT
X-MICROSOFT-CDO-ALLDAYEVENT:TRUE
SUMMARY:ACE Overcomers
DESCRIPTION:Learn how adverse childhood experiences (ACEs) impact your life and discover self-care strategies to support healing and resilience.
X-ALT-DESC;FMTTYPE=text/html:<span style="font-size:14px"><span style="font-family:verdana">Learn how adverse childhood experiences (ACEs) impact your life and discover self-care strategies to support healing and resilience.</span></span>
LOCATION:219 E Main Street Neosho\, MO 64850
UID:e.2144.19806
SEQUENCE:3
DTSTAMP:20260423T100126Z
URL:https://neoshocc.com/events/details/ace-overcomers-06-01-2026-19806
END:VEVENT

END:VCALENDAR
