BEGIN:VCALENDAR
VERSION:2.0
PRODID:-//ChamberMaster//Event Calendar 2.0//EN
METHOD:PUBLISH
X-PUBLISHED-TTL:P3D
REFRESH-INTERVAL:P3D
CALSCALE:GREGORIAN
BEGIN:VEVENT
DTSTART:20260313T140000Z
DTEND:20260323T010000Z
X-MICROSOFT-CDO-ALLDAYEVENT:FALSE
SUMMARY:A Dog's Dream Online Silent Auction Fundraiser!
DESCRIPTION:??IT'S TIIIIIIIME?? WE ARE LIVE! Check out the following links to join in on the bidding fun for our Silent Auction and 50/50 Raffle Fundraiser! If you have any quesitons\, please feel free to message us!\n\n\n\n?? AUCTION ??\n\nhttps://www.zeffy.com/en-US/ticketing/a-dogs-dream-silent-auction\n\n\n\n?? THANK YOU in advance for supporting such an amazing non-profit! Our pups will be forever grateful! ????\n \n\nYou DO NOT want to miss this! With MULTIPLE individual donations of Half Face Blades\, from folders to collabs to pry bars and MUCH MORE to include Half Face Blades apparel\, Grunt Style merch\, date night packages\, doggie daycare\, local gift cards AND MORE!!! \n\n \n\nThe auction will launch on Friday\, March 13th and will run for 10 days\n\n \n\nSave your $ and support a GREAT cause! The dogs and their new families will thank you! ALL proceeds go towards our Adoption Program.\n\n \n\nFor more info\, shoot us a message or give us a call!
X-ALT-DESC;FMTTYPE=text/html:??IT&#39\;S TIIIIIIIME?? WE ARE LIVE! Check out the following links to join in on the bidding fun for our Silent Auction and 50/50 Raffle Fundraiser! If you have any quesitons\, please feel free to message us!<br />\n<br />\n?? AUCTION ??<br />\n<a href="https://www.zeffy.com/en-US/ticketing/a-dogs-dream-silent-auction">https://www.zeffy.com/en-US/ticketing/a-dogs-dream-silent-auction</a><br />\n<br />\n?? THANK YOU in advance for supporting such an amazing non-profit! Our pups will be forever grateful! ????\n<div>&nbsp\;</div>\n\n<div>You DO NOT want to miss this! With MULTIPLE individual donations of Half Face Blades\, from folders to collabs to pry bars and MUCH MORE to include Half Face Blades apparel\, Grunt Style merch\, date night packages\, doggie daycare\, local gift cards AND MORE!!!&nbsp\;</div>\n\n<div>&nbsp\;</div>\n\n<div>The auction will launch on Friday\, March 13th and will run for 10 days</div>\n\n<div>&nbsp\;</div>\n\n<div>Save your $ and support a GREAT cause! The dogs and their new families will thank you! ALL proceeds go towards our Adoption Program.</div>\n\n<div>&nbsp\;</div>\n\n<div>For more info\, shoot us a message or give us a call!</div>\n
LOCATION:ONLINE - https://www.zeffy.com/en-US/ticketing/a-dogs-dream-silent-auction
UID:e.2144.19228
SEQUENCE:3
DTSTAMP:20260421T145322Z
URL:https://neoshocc.com/events/details/a-dog-s-dream-online-silent-auction-19228
END:VEVENT

END:VCALENDAR
