BEGIN:VCALENDAR
VERSION:2.0
PRODID:-//ChamberMaster//Event Calendar 2.0//EN
METHOD:PUBLISH
X-PUBLISHED-TTL:P3D
REFRESH-INTERVAL:P3D
CALSCALE:GREGORIAN
BEGIN:VEVENT
DTSTART:20190503T230000Z
DTEND:20190505T010000Z
X-MICROSOFT-CDO-ALLDAYEVENT:FALSE
SUMMARY:A Dinner Party To Die For
DESCRIPTION:Join us for a dinner party to die for! Suspects and Sleuths Presented by RE Smith Cnstruction Company.\n\nThis first-ever event will feature "Funeral for a Gangster\," a murder mystery presented by Crowder College Theater students\; a four-course plated dinner (Chicken Cordon Bleu or Pork Loin Option)\; and optional wine pull. Guests will step back in time to help the mob send off the late Vito "The Gut" Marzetti and solve the mystery of who murdered the notorious gangster. 1920s period attire encouraged but not required. Prizes awarded for best male & female costumes.\n\nSuspects & Sleuths Presented by RE Smith Construction Company\n\nRSVP to foundation@crowder.edu or call 417-455-5646\n\nChoose Friday or Saturday showing.\n\nProceeds benefit Crowder College Foundation.\n\nLimited seating available.
X-ALT-DESC;FMTTYPE=text/html:Join us for a dinner party to die for! Suspects and Sleuths Presented by RE Smith Cnstruction Company.<br />\nThis first-ever event will feature &quot\;Funeral for a Gangster\,&quot\; a murder mystery presented by Crowder College Theater students\; a four-course plated dinner (Chicken Cordon Bleu or Pork Loin Option)\; and optional wine pull. Guests will step back in time to help the mob send off the late Vito &quot\;The Gut&quot\; Marzetti and solve the mystery of who murdered the notorious gangster. 1920s period attire encouraged but not required. Prizes awarded for best male &amp\; female costumes.<br />\nSuspects &amp\; Sleuths Presented by RE Smith Construction Company<br />\nRSVP to foundation@crowder.edu or call 417-455-5646<br />\nChoose Friday or Saturday showing.<br />\nProceeds benefit Crowder College Foundation.<br />\nLimited seating available.
LOCATION:Scene of the Crime Hidden Grace Venue 11936 Hammer Road Neosho\, MO 64850
UID:e.2144.2415
SEQUENCE:3
DTSTAMP:20260424T002739Z
URL:https://neoshocc.com/events/details/a-dinner-party-to-die-for-2415
END:VEVENT

END:VCALENDAR
