BEGIN:VCALENDAR
VERSION:2.0
PRODID:-//ChamberMaster//Event Calendar 2.0//EN
METHOD:PUBLISH
X-PUBLISHED-TTL:P3D
REFRESH-INTERVAL:P3D
CALSCALE:GREGORIAN
BEGIN:VEVENT
DTSTART:20210821T003000Z
DTEND:20210822T003000Z
X-MICROSOFT-CDO-ALLDAYEVENT:FALSE
SUMMARY:9th Annual Crowder College Scholarship Rodeo
DESCRIPTION:The 9th Annual Crowder College Scholarship Rodeo will be held at Roughrider Arena (608 Field Ave.) August 20-21 beginning at 7:30pm. Live entertainment to include Sophie Dutch Trick Riding\, nightly mutton busting\, jr & pee wee barrels\, and nightly wild horse jackpot. Advance tickets may be purchased at any Crowder College bookstore or First Community Bank location. Tickets also available at gate. The rodeo is sponsored by River Bend Casino Hotel.
X-ALT-DESC;FMTTYPE=text/html:The 9th Annual Crowder College Scholarship Rodeo will be held at Roughrider Arena (<span style="color:rgb(77\, 81\, 86)\; font-family:roboto\,arial\,sans-serif\; font-size:14px">608 Field Ave.</span>) August 20-21 beginning at 7:30pm. Live entertainment to include Sophie Dutch Trick Riding\, nightly mutton busting\, jr &amp\; pee wee barrels\, and nightly wild horse jackpot. Advance tickets may be purchased at any Crowder College bookstore or First Community Bank location. Tickets also available at gate. The rodeo is sponsored by River Bend Casino Hotel.
LOCATION:Roughrider Arena 608 Field Ave.\, Neosho\, MO 64850
UID:e.2144.7699
SEQUENCE:3
DTSTAMP:20260423T192502Z
URL:https://neoshocc.com/events/details/9th-annual-crowder-college-scholarship-rodeo-7699
END:VEVENT

END:VCALENDAR
