BEGIN:VCALENDAR
VERSION:2.0
PRODID:-//ChamberMaster//Event Calendar 2.0//EN
METHOD:PUBLISH
X-PUBLISHED-TTL:P3D
REFRESH-INTERVAL:P3D
CALSCALE:GREGORIAN
BEGIN:VEVENT
DTSTART:20160211T230000Z
DTEND:20160212T010000Z
X-MICROSOFT-CDO-ALLDAYEVENT:FALSE
SUMMARY:6th Sweet Arts Gala Reception & Awards - First Community Bank
DESCRIPTION:Everyone is welcome to join us for an opportunity to meet the artists and to see the art while enjoying refreshments.  Judge Sarah Buhr will be on hand to present awards.
X-ALT-DESC;FMTTYPE=text/html:Everyone is welcome to join us for an opportunity to meet the artists and to see the art while enjoying refreshments.&nbsp\; Judge Sarah Buhr will be on hand to present awards.
LOCATION:First Community Bank (near Wal-mart)
UID:e.2144.1589
SEQUENCE:3
DTSTAMP:20260421T130626Z
URL:https://neoshocc.com/events/details/6th-sweet-arts-gala-reception-awards-first-community-bank-02-11-2016-1589
END:VEVENT

END:VCALENDAR
