BEGIN:VCALENDAR
VERSION:2.0
PRODID:-//ChamberMaster//Event Calendar 2.0//EN
METHOD:PUBLISH
X-PUBLISHED-TTL:P3D
REFRESH-INTERVAL:P3D
CALSCALE:GREGORIAN
BEGIN:VEVENT
DTSTART:20190808T150000Z
DTEND:20190808T153000Z
X-MICROSOFT-CDO-ALLDAYEVENT:FALSE
SUMMARY:50th Anniversary Ribbon Cutting - Dr. Marion Weston
DESCRIPTION:Join us as we celebrate the 50th Anniversary of Dr. Marion Weston practicing optometry in Neosho.
X-ALT-DESC;FMTTYPE=text/html:Join us as we celebrate the 50th Anniversary of Dr. Marion Weston practicing optometry in Neosho.&nbsp\;&nbsp\;
LOCATION:Regional Eye Center Neosho Office
UID:e.2144.2650
SEQUENCE:3
DTSTAMP:20260421T115022Z
URL:https://neoshocc.com/events/details/50th-anniversary-ribbon-cutting-dr-marion-weston-2650
END:VEVENT

END:VCALENDAR
