BEGIN:VCALENDAR
VERSION:2.0
PRODID:-//ChamberMaster//Event Calendar 2.0//EN
METHOD:PUBLISH
X-PUBLISHED-TTL:P3D
REFRESH-INTERVAL:P3D
CALSCALE:GREGORIAN
BEGIN:VEVENT
DTSTART:20180630T000000Z
DTEND:20180630T023000Z
X-MICROSOFT-CDO-ALLDAYEVENT:FALSE
SUMMARY:4th of July Celebration at Medicalodges Neosho & Gran Villas
DESCRIPTION:Medicalodges Neosho & Gran Villas invite you to a 4th of July Celebration!  A funfilled evening\, Friday\, June 29th\, 2018!  Food & Music start at 7:00pm\, Fireworks At Dark.  Live Music
X-ALT-DESC;FMTTYPE=text/html:Medicalodges Neosho &amp\; Gran Villas invite you to a 4th of July Celebration!&nbsp\; A funfilled evening\, Friday\, June 29th\, 2018!&nbsp\; Food &amp\; Music start at 7:00pm\, Fireworks&nbsp\;At Dark.&nbsp\; Live Music
LOCATION:Medicalodges Neosho & Gran Villas
UID:e.2144.2085
SEQUENCE:3
DTSTAMP:20260419T215944Z
URL:https://neoshocc.com/events/details/4th-of-july-celebration-at-medicalodges-neosho-gran-villas-2085
END:VEVENT

END:VCALENDAR
