BEGIN:VCALENDAR
VERSION:2.0
PRODID:-//ChamberMaster//Event Calendar 2.0//EN
METHOD:PUBLISH
X-PUBLISHED-TTL:P3D
REFRESH-INTERVAL:P3D
CALSCALE:GREGORIAN
BEGIN:VEVENT
DTSTART:20141107T220000Z
DTEND:20141108T040000Z
X-MICROSOFT-CDO-ALLDAYEVENT:FALSE
SUMMARY:4th Annual Bright Futures Bowling Tournament
DESCRIPTION:Neosho Bright Futures\, 4th Annual Bowling Tournament\, Friday\, November 7th\, 2014\, Neosho Edgewood Bowl.
X-ALT-DESC;FMTTYPE=text/html:Neosho Bright Futures\, 4th Annual Bowling Tournament\, Friday\, November 7th\, 2014\, Neosho Edgewood Bowl.<br />\n&nbsp\;
LOCATION:Neosho Edgewood Bowl
UID:e.2144.75
SEQUENCE:3
DTSTAMP:20260422T121642Z
URL:https://neoshocc.com/events/details/4th-annual-bright-futures-bowling-tournament-11-07-2014-75
END:VEVENT

END:VCALENDAR
