BEGIN:VCALENDAR
VERSION:2.0
PRODID:-//ChamberMaster//Event Calendar 2.0//EN
METHOD:PUBLISH
X-PUBLISHED-TTL:P3D
REFRESH-INTERVAL:P3D
CALSCALE:GREGORIAN
BEGIN:VEVENT
DTSTART:20140806T130000Z
DTEND:20140806T180000Z
X-MICROSOFT-CDO-ALLDAYEVENT:FALSE
SUMMARY:47th Annual New Teachers Tour
DESCRIPTION:The Neosho Area Chamber of Commerce will host the 47th Annual New Teachers Tour and luncheon.
X-ALT-DESC;FMTTYPE=text/html:The Neosho Area Chamber of Commerce will host the 47th Annual New Teachers Tour and luncheon.
LOCATION:Meet at the Neosho R5 Administration Building at 8 am\, Leave on tour of Neosho and stop for lunch at Noon at the Wright Conference Room at Crowder College.
UID:e.2144.13
SEQUENCE:3
DTSTAMP:20260422T182755Z
URL:https://neoshocc.com/events/details/47th-annual-new-teachers-tour-08-06-2014-13
END:VEVENT

END:VCALENDAR
