BEGIN:VCALENDAR
VERSION:2.0
PRODID:-//ChamberMaster//Event Calendar 2.0//EN
METHOD:PUBLISH
X-PUBLISHED-TTL:P3D
REFRESH-INTERVAL:P3D
CALSCALE:GREGORIAN
BEGIN:VEVENT
DTSTART:20160416T140000Z
DTEND:20160416T170000Z
X-MICROSOFT-CDO-ALLDAYEVENT:FALSE
SUMMARY:33rd Annual Neosho Dogwood Run
DESCRIPTION:The 33rd Annual Neosho Dogwood Run\n\n5K Run & 1-Mile Walk
X-ALT-DESC;FMTTYPE=text/html:The 33rd Annual Neosho Dogwood Run<br />\n5K Run &amp\; 1-Mile Walk
LOCATION:Neosho High School - Neosho\, Mo
UID:e.2144.1594
SEQUENCE:3
DTSTAMP:20260421T102239Z
URL:https://neoshocc.com/events/details/33rd-annual-neosho-dogwood-run-04-16-2016-1594
END:VEVENT

END:VCALENDAR
