BEGIN:VCALENDAR
VERSION:2.0
PRODID:-//ChamberMaster//Event Calendar 2.0//EN
METHOD:PUBLISH
X-PUBLISHED-TTL:P3D
REFRESH-INTERVAL:P3D
CALSCALE:GREGORIAN
BEGIN:VEVENT
DTSTART:20150109T133000Z
DTEND:20150109T143000Z
X-MICROSOFT-CDO-ALLDAYEVENT:FALSE
SUMMARY:2nd Friday Coffee - Neosho R5 School District - Admin Building
DESCRIPTION:The Neosho R5 School District will be hosting the 2nd Friday Coffee on Friday\, January 9th at the Administration Building\, 418 Fairground Road\, 7:30am to 8:30am.  Please join us for this monthly opportunity to network with other chamber members and enjoy coffee and refreshments.
X-ALT-DESC;FMTTYPE=text/html:The Neosho R5 School District will be hosting the 2nd Friday Coffee on Friday\,&nbsp\;January 9th at the Administration Building\, 418 Fairground Road\, 7:30am to 8:30am.&nbsp\; Please join us for this monthly opportunity to network with other chamber members and enjoy coffee and refreshments.
LOCATION:Neosho R5 School District Administration Building 418 Fairground Road Neosho\, MO 64850
UID:e.2144.101
SEQUENCE:3
DTSTAMP:20260422T092930Z
URL:https://neoshocc.com/events/details/2nd-friday-coffee-neosho-r5-school-district-admin-building-01-09-2015-101
END:VEVENT

END:VCALENDAR
