BEGIN:VCALENDAR
VERSION:2.0
PRODID:-//ChamberMaster//Event Calendar 2.0//EN
METHOD:PUBLISH
X-PUBLISHED-TTL:P3D
REFRESH-INTERVAL:P3D
CALSCALE:GREGORIAN
BEGIN:VEVENT
DTSTART:20160108T133000Z
DTEND:20160109T023000Z
X-MICROSOFT-CDO-ALLDAYEVENT:FALSE
SUMMARY:2nd Friday Coffee - Hosted by Medicalodges of Neosho
DESCRIPTION:Come and warm up with us at our 2nd Friday Coffee
X-ALT-DESC;FMTTYPE=text/html:Come and warm up with us at our 2nd Friday Coffee
LOCATION:Medicalodges Of Neosho 400 Lyon Dr. Neosho
UID:e.2144.1528
SEQUENCE:3
DTSTAMP:20260421T144619Z
URL:https://neoshocc.com/events/details/2nd-friday-coffee-hosted-by-medicalodges-of-neosho-01-08-2016-1528
END:VEVENT

END:VCALENDAR
