BEGIN:VCALENDAR
VERSION:2.0
PRODID:-//ChamberMaster//Event Calendar 2.0//EN
METHOD:PUBLISH
X-PUBLISHED-TTL:P3D
REFRESH-INTERVAL:P3D
CALSCALE:GREGORIAN
BEGIN:VEVENT
DTSTART:20230113T133000Z
DTEND:20230113T143000Z
X-MICROSOFT-CDO-ALLDAYEVENT:FALSE
SUMMARY:2nd Friday Coffee - Freeman Neosho Hospital
DESCRIPTION:2nd Friday Coffee with Freeman Health System
X-ALT-DESC;FMTTYPE=text/html:2nd Friday Coffee with Freeman Health System<br />\n&nbsp\;
LOCATION:The Flower Box Cafe at Freeman Neosho Hospital 113 W. Hickory Neosho\, MO 64850 Please park in the following lots: Lot behind the Methodist Church Middle Parking Lot by Clark Funeral home or the lot by the helicopter pad.
UID:e.2144.8972
SEQUENCE:3
DTSTAMP:20260426T034601Z
URL:https://neoshocc.com/events/details/2nd-friday-coffee-freeman-neosho-hospital-8972
END:VEVENT

END:VCALENDAR
