BEGIN:VCALENDAR
VERSION:2.0
PRODID:-//ChamberMaster//Event Calendar 2.0//EN
METHOD:PUBLISH
X-PUBLISHED-TTL:P3D
REFRESH-INTERVAL:P3D
CALSCALE:GREGORIAN
BEGIN:VEVENT
DTSTART:20141004T150000Z
DTEND:20141004T170000Z
X-MICROSOFT-CDO-ALLDAYEVENT:FALSE
SUMMARY:2nd Annual Neosho Fall Festival Coaster Car Race
DESCRIPTION:2nd Annual Neosho Fall Festival Coaster Car Race in Downtown Neosho!\n\nGo to www.neoshomo.org for rules & regulations!
X-ALT-DESC;FMTTYPE=text/html:2nd Annual Neosho Fall Festival Coaster Car Race in Downtown Neosho!<br />\nGo to www.neoshomo.org for rules &amp\; regulations!
LOCATION:Pre Register at City Hall 203 E. Main Neosho\, MO 64850
UID:e.2144.45
SEQUENCE:3
DTSTAMP:20260422T134324Z
URL:https://neoshocc.com/events/details/2nd-annual-neosho-fall-festival-coaster-car-race-10-04-2014-45
END:VEVENT

END:VCALENDAR
