BEGIN:VCALENDAR
VERSION:2.0
PRODID:-//ChamberMaster//Event Calendar 2.0//EN
METHOD:PUBLISH
X-PUBLISHED-TTL:P3D
REFRESH-INTERVAL:P3D
CALSCALE:GREGORIAN
BEGIN:VEVENT
DTSTART:20150509T140000Z
DTEND:20150509T170000Z
X-MICROSOFT-CDO-ALLDAYEVENT:FALSE
SUMMARY:2nd Annual Dodgeball Tournament - Dodge for Dollars - Crowder College TRIO Scholarship
DESCRIPTION:Crowder College TRIO Scholarship will hold it's 2nd Annual Dodgeball Tournament- Dodge for Dollars\, Saturday May 9th\, 2015 at the Bob Sneller Gymnasium on the campus of Crowder College.  All proceeds wil go directly into the TRIO Scholarship funds!
X-ALT-DESC;FMTTYPE=text/html:Crowder College TRIO Scholarship will hold it&#39\;s 2nd Annual Dodgeball Tournament- Dodge for Dollars\, Saturday May 9th\, 2015 at the Bob Sneller Gymnasium on the campus of Crowder College.&nbsp\; All proceeds wil go directly into the TRIO Scholarship funds!
LOCATION:Bob Sneller Gymnasium Crowder College Neosho\, MO
UID:e.2144.240
SEQUENCE:3
DTSTAMP:20260422T030758Z
URL:https://neoshocc.com/events/details/2nd-annual-dodgeball-tournament-dodge-for-dollars-crowder-college-trio-scholarship-05-09-2015-240
END:VEVENT

END:VCALENDAR
