BEGIN:VCALENDAR
VERSION:2.0
PRODID:-//ChamberMaster//Event Calendar 2.0//EN
METHOD:PUBLISH
X-PUBLISHED-TTL:P3D
REFRESH-INTERVAL:P3D
CALSCALE:GREGORIAN
BEGIN:VEVENT
DTSTART;VALUE=DATE:20190516
DTEND;VALUE=DATE:20190517
TRANSP:TRANSPARENT
X-MICROSOFT-CDO-ALLDAYEVENT:TRUE
SUMMARY:27th Annual Golf Tournament of Miracles
DESCRIPTION:It's All About the Kids\n\nHello fellow golfers!\n\nMy name is Chandler and I want to personally invite you to participate in the 27th Annual Tournament of Miracles to benefit area sick and injured children\, just like me! Please join us for a fun-filled day\, Thursday May 16th at Peoria Ridge and meet my fellow Miracle Kids\, or support us through a sponsorship or donation.\n\nThe Tournament of Miracles golf scramble benefits Children's Miracle Network Hospitals at Freeman Health System. Children's Miracle Network Hospitals provides direct family assistance through medication\, equipment and specialty care access as well as programs like Higgin Heroes that helps hospitalized children at Freeman. Higgins Heroes is named in honor of Bob and Bea Higgins and their lifelong dedication to serving the mission of Children's Miracle Network at Freeman Health System and the Establishment of the Tournament of Miracles. Check out the picture of my friend Bob and me below.\n\nI can't wait to see you at the tournament\, I bet you can't out-drive me!\n\nFore the kids\, Chandler\n\nChandler was diagnosed with tetralogy of Fallot at birth. Three open heart surgeries and\, in July of 2018\, a heart cath to replace a leaky pulmonary valve\, this young man is most happy when he is on the golf course. He is thriving today because of generous donors like you.\n\nIf you choose to participate in only one golf tournament this year\, we urge you to play with a purpose and choose Tournament of Miracles - you'll feel good knowing your donation will stay here\, helping local families in need.\n\nPlease select your level of participation on the enclosed sponsorship form and return it to us today. For more information\, contact Children's Miracle Network Hospitals at 417-347-4652\n\nClick Here
X-ALT-DESC;FMTTYPE=text/html:It&#39\;s All About the Kids<br />\nHello fellow golfers!<br />\nMy name is Chandler and I want to personally invite you to participate in the 27th Annual Tournament of Miracles to benefit area sick and injured children\, just like me! Please join us for a fun-filled day\, Thursday May 16th at Peoria Ridge and meet my fellow Miracle Kids\, or support us through a sponsorship or donation.<br />\nThe Tournament of Miracles golf scramble benefits Children&#39\;s Miracle Network Hospitals at Freeman Health System. Children&#39\;s Miracle Network Hospitals provides direct family assistance through medication\, equipment and specialty care access as well as programs like Higgin Heroes that helps hospitalized children at Freeman. Higgins Heroes is named in honor of Bob and Bea Higgins and their lifelong dedication to serving the mission of Children&#39\;s Miracle Network at Freeman Health System and the Establishment of the Tournament of Miracles. Check out the picture of my friend Bob and me below.<br />\nI can&#39\;t wait to see you at the tournament\, I bet you can&#39\;t out-drive me!<br />\nFore the kids\, Chandler<br />\nChandler was diagnosed with tetralogy of Fallot at birth. Three open heart surgeries and\, in July of 2018\, a heart cath to replace a leaky pulmonary valve\, this young man is most happy when he is on the golf course. He is thriving today because of generous donors like you.<br />\nIf you choose to participate in only one golf tournament this year\, we urge you to play with a purpose and choose Tournament of Miracles - you&#39\;ll feel good knowing your donation will stay here\, helping local families in need.<br />\nPlease select your level of participation on the enclosed sponsorship form and return it to us today. For more information\, contact Children&#39\;s Miracle Network Hospitals at 417-347-4652<br />\n<a href="https://chambermaster.blob.core.windows.net/userfiles/UserFiles/chambers/2144/File/GolfFundraiserForm.pdf">Click Here</a>
LOCATION:Peoria Ridge
UID:e.2144.2508
SEQUENCE:3
DTSTAMP:20260424T015820Z
URL:https://neoshocc.com/events/details/27th-annual-golf-tournament-of-miracles-2508
END:VEVENT

END:VCALENDAR
