BEGIN:VCALENDAR
VERSION:2.0
PRODID:-//ChamberMaster//Event Calendar 2.0//EN
METHOD:PUBLISH
X-PUBLISHED-TTL:P3D
REFRESH-INTERVAL:P3D
CALSCALE:GREGORIAN
BEGIN:VEVENT
DTSTART;VALUE=DATE:20210903
DTEND;VALUE=DATE:20211023
TRANSP:TRANSPARENT
X-MICROSOFT-CDO-ALLDAYEVENT:TRUE
SUMMARY:26th Annual Thomas Hart Benton Art Competition and Exhibition
DESCRIPTION:The 26th Annual Thomas Hart Benton Art Competition and Exhibition is now on display at the Big Spring Gallery and online at neoshoarts.net.\n\n\n\nFeaturing some of the regions best artists this area tradition is bringing you great art by artists you love and new fresh works by emerging artists.\n\n\n\nA public awards and critique will be held Sept. 11 at 2pm in the Community Room of the library.\n\n\n\nA portion of each work sold will go to the Mural Restoration Project.
X-ALT-DESC;FMTTYPE=text/html:The 26th Annual Thomas Hart Benton Art Competition and Exhibition is now on display at the Big Spring Gallery and online at neoshoarts.net.<br />\n<br />\nFeaturing some of the regions best artists this area tradition is bringing you great art by artists you love and new fresh works by emerging artists.<br />\n<br />\nA public awards and critique will be held Sept. 11 at 2pm in the Community Room of the library.<br />\n<br />\nA portion of each work sold will go to the Mural Restoration Project.
LOCATION:Big Spring Gallery Neosho Area Chamber of Commerce 216 E. Spring St Neosho\, MO 64850 and online at neoshoarts.net
UID:e.2144.7876
SEQUENCE:3
DTSTAMP:20260423T193420Z
URL:https://neoshocc.com/events/details/26th-annual-thomas-hart-benton-art-competition-and-exhibition-7876
END:VEVENT

END:VCALENDAR
