BEGIN:VCALENDAR
VERSION:2.0
PRODID:-//ChamberMaster//Event Calendar 2.0//EN
METHOD:PUBLISH
X-PUBLISHED-TTL:P3D
REFRESH-INTERVAL:P3D
CALSCALE:GREGORIAN
BEGIN:VEVENT
DTSTART:20160318T220000Z
DTEND:20160319T190000Z
X-MICROSOFT-CDO-ALLDAYEVENT:FALSE
SUMMARY:24th Annual Business and Industry Review
DESCRIPTION:
X-ALT-DESC;FMTTYPE=text/html:
LOCATION:Neosho High School Cafeteria
UID:e.2144.1534
SEQUENCE:3
DTSTAMP:20260421T115238Z
URL:https://neoshocc.com/events/details/24th-annual-business-and-industry-review-03-18-2016-1534
END:VEVENT

END:VCALENDAR
