BEGIN:VCALENDAR
VERSION:2.0
PRODID:-//ChamberMaster//Event Calendar 2.0//EN
METHOD:PUBLISH
X-PUBLISHED-TTL:P3D
REFRESH-INTERVAL:P3D
CALSCALE:GREGORIAN
BEGIN:VEVENT
DTSTART:20150321T150000Z
DTEND:20150321T190000Z
X-MICROSOFT-CDO-ALLDAYEVENT:FALSE
SUMMARY:23rd Annual Business & Industry Review- "The Big Show"
DESCRIPTION:
X-ALT-DESC;FMTTYPE=text/html:
LOCATION:
UID:e.2144.110
SEQUENCE:3
DTSTAMP:20260422T060933Z
URL:https://neoshocc.com/events/details/23rd-annual-business-industry-review-the-big-show-03-21-2015-110
END:VEVENT

END:VCALENDAR
