BEGIN:VCALENDAR
VERSION:2.0
PRODID:-//ChamberMaster//Event Calendar 2.0//EN
METHOD:PUBLISH
X-PUBLISHED-TTL:P3D
REFRESH-INTERVAL:P3D
CALSCALE:GREGORIAN
BEGIN:VEVENT
DTSTART:20151010T203000Z
DTEND:20151010T220000Z
X-MICROSOFT-CDO-ALLDAYEVENT:FALSE
SUMMARY:20th Annual Thomas Hart Benton Art Competition
DESCRIPTION:20th Annual Thomas Hart Benton Art Competition\, the exhibit will be on display Oct 10th -25th in the Longwell Museum located inside the Elsie Plaster Community Center.
X-ALT-DESC;FMTTYPE=text/html:20th Annual Thomas Hart Benton Art Competition\, the exhibit will be on display Oct 10th -25th in the Longwell Museum located inside the Elsie Plaster Community Center.
LOCATION:Longwell Museum inside the Elsie Plaster Community Center on the Campus of Crowder College
UID:e.2144.1478
SEQUENCE:3
DTSTAMP:20260421T202622Z
URL:https://neoshocc.com/events/details/20th-annual-thomas-hart-benton-art-competition-10-10-2015-1478
END:VEVENT

END:VCALENDAR
