BEGIN:VCALENDAR
VERSION:2.0
PRODID:-//ChamberMaster//Event Calendar 2.0//EN
METHOD:PUBLISH
X-PUBLISHED-TTL:P3D
REFRESH-INTERVAL:P3D
CALSCALE:GREGORIAN
BEGIN:VEVENT
DTSTART:20211002T150000Z
DTEND:20211002T190000Z
X-MICROSOFT-CDO-ALLDAYEVENT:FALSE
SUMMARY:2021 Sidewalk Chalk Art Contest
DESCRIPTION:Join Neosho Arts Council for the 2021 Sidewalk Chalk Art Contest!\n\n\n\nTurn downtown Neosho into a work of art during the Neosho Fall Festival.\n\n\n\nSign up on October 2 at the Neosho Arts Council booth by the main stage. Cash prizes will be awarded in three age groups!\n\n\n\nAges 6-10: Free\n\nAges 11-15: Free\n\nAges 16-Adult: $10\n\n\n\nEach entry age comes with a free set of chalks! Extra chalks available for sale!
X-ALT-DESC;FMTTYPE=text/html:Join Neosho Arts Council for the 2021 Sidewalk Chalk Art Contest!<br />\n<br />\nTurn downtown Neosho into a work of art during the Neosho Fall Festival.<br />\n<br />\nSign up on October 2 at the Neosho Arts Council booth by the main stage. Cash prizes will be awarded in three age groups!<br />\n<br />\nAges 6-10: Free<br />\nAges 11-15: Free<br />\nAges 16-Adult: $10<br />\n<br />\nEach entry age comes with a free set of chalks! Extra chalks available for sale!
LOCATION:Neosho Fall Festival
UID:e.2144.7892
SEQUENCE:3
DTSTAMP:20260423T210556Z
URL:https://neoshocc.com/events/details/2021-sidewalk-chalk-art-contest-7892
END:VEVENT

END:VCALENDAR
