BEGIN:VCALENDAR
VERSION:2.0
PRODID:-//ChamberMaster//Event Calendar 2.0//EN
METHOD:PUBLISH
X-PUBLISHED-TTL:P3D
REFRESH-INTERVAL:P3D
CALSCALE:GREGORIAN
BEGIN:VEVENT
DTSTART:20160109T233000Z
DTEND:20160110T020000Z
X-MICROSOFT-CDO-ALLDAYEVENT:FALSE
SUMMARY:2016 Carver Commemorative Dinner
DESCRIPTION:The George Washington Carver Birthplace Association invites you to the 2016 Carver Commemorative Dinner\, featuring Special Guest Speakers\, Dr. Luther S. Williams & Dr. Walter Hill.
X-ALT-DESC;FMTTYPE=text/html:<div style="color: gray\;">The George Washington Carver Birthplace Association invites you to the 2016 Carver Commemorative Dinner\, featuring Special Guest Speakers\, Dr. Luther S. Williams &amp\; Dr. Walter Hill.</div>\n
LOCATION:Crowder College Neosho Campus Arnold Farber Building
UID:e.2144.1530
SEQUENCE:3
DTSTAMP:20260421T155212Z
URL:https://neoshocc.com/events/details/2016-carver-commemorative-dinner-01-09-2016-1530
END:VEVENT

END:VCALENDAR
