BEGIN:VCALENDAR
VERSION:2.0
PRODID:-//ChamberMaster//Event Calendar 2.0//EN
METHOD:PUBLISH
X-PUBLISHED-TTL:P3D
REFRESH-INTERVAL:P3D
CALSCALE:GREGORIAN
BEGIN:VEVENT
DTSTART:20150924T170000Z
DTEND:20150924T210000Z
X-MICROSOFT-CDO-ALLDAYEVENT:FALSE
SUMMARY:2015 Chamber Golf Scramble
DESCRIPTION:
X-ALT-DESC;FMTTYPE=text/html:
LOCATION:Neosho Golf Course
UID:e.2144.299
SEQUENCE:3
DTSTAMP:20260421T201748Z
URL:https://neoshocc.com/events/details/2015-chamber-golf-scramble-09-24-2015-299
END:VEVENT

END:VCALENDAR
