BEGIN:VCALENDAR
VERSION:2.0
PRODID:-//ChamberMaster//Event Calendar 2.0//EN
METHOD:PUBLISH
X-PUBLISHED-TTL:P3D
REFRESH-INTERVAL:P3D
CALSCALE:GREGORIAN
BEGIN:VEVENT
DTSTART:20151111T000000Z
DTEND:20151111T030000Z
X-MICROSOFT-CDO-ALLDAYEVENT:FALSE
SUMMARY:2015 Agriculture Appreciation Banquet
DESCRIPTION:Presented by the Neosho Area Chamber of Commerce\, this annual event focuses on the appreciation of the hardworking families and individuals of Newton and McDonald Counties that work to further Missouri Agriculture. We want to come together and provide a wonderful meal and program to show our appreciation to them.\n\n\n\nEntertaiment for this years banquet will be provided by Willamae and Friends\, the local group with a Branson flair. Don't miss this entertaining evening!
X-ALT-DESC;FMTTYPE=text/html:Presented by the Neosho Area Chamber of Commerce\, this annual event focuses on the appreciation of the hardworking families and individuals of Newton and McDonald Counties that work to further Missouri Agriculture. We want to come together and provide a wonderful meal and program to show our appreciation to them.<br />\n<br />\nEntertaiment for this years banquet will be provided by Willamae and Friends\, the local group with a Branson flair. Don&#39\;t miss this entertaining evening!
LOCATION:Neosho High School Cafeteria 511 Neosho Blvd. Neosho\, MO 64850
UID:e.2144.1479
SEQUENCE:3
DTSTAMP:20260421T170920Z
URL:https://neoshocc.com/events/details/2015-agriculture-appreciation-banquet-11-10-2015-1479
END:VEVENT

END:VCALENDAR
