BEGIN:VCALENDAR
VERSION:2.0
PRODID:-//ChamberMaster//Event Calendar 2.0//EN
METHOD:PUBLISH
X-PUBLISHED-TTL:P3D
REFRESH-INTERVAL:P3D
CALSCALE:GREGORIAN
BEGIN:VEVENT
DTSTART;VALUE=DATE:20141120
DTEND;VALUE=DATE:20141121
TRANSP:TRANSPARENT
X-MICROSOFT-CDO-ALLDAYEVENT:TRUE
SUMMARY:2014 Neosho Area Chamber of Commerce Annual Banquet
DESCRIPTION:
X-ALT-DESC;FMTTYPE=text/html:
LOCATION:The Civic 109 W. Main Street
UID:e.2144.39
SEQUENCE:3
DTSTAMP:20260422T121930Z
URL:https://neoshocc.com/events/details/2014-neosho-area-chamber-of-commerce-annual-banquet-11-20-2014-39
END:VEVENT

END:VCALENDAR
