BEGIN:VCALENDAR
VERSION:2.0
PRODID:-//ChamberMaster//Event Calendar 2.0//EN
METHOD:PUBLISH
X-PUBLISHED-TTL:P3D
REFRESH-INTERVAL:P3D
CALSCALE:GREGORIAN
BEGIN:VEVENT
DTSTART:20141206T230000Z
DTEND:20141207T010000Z
X-MICROSOFT-CDO-ALLDAYEVENT:FALSE
SUMMARY:2014 Christmas Parade
DESCRIPTION:The theme for this year's parade is "Christmas Around the World". We would like each float to represent Christmas traditions in another Country and be lighted. \n\n\n\nThe parade is being held in conjunction with the Annual Dickens Christmas Faire - an event that will transform downtown Neosho into a Dickens-like atmosphere.  It will feature a Holiday Market (in Mills Park Centre building)\, Christmas Lighting in the Park and Breakfast with Santa in The Civic\, along with other free kids' activities.
X-ALT-DESC;FMTTYPE=text/html:<span style="font-size: medium\;"><span style="font-family: times new roman\;">The theme for this year&rsquo\;s parade is &ldquo\;Christmas Around the World&rdquo\;. We would like each float to represent Christmas traditions in another Country and be lighted.&nbsp\;</span></span><br />\n<br />\n<span style="font-size: medium\;"><span style="font-family: times new roman\;">The parade is being held in conjunction with the Annual Dickens Christmas Faire - an event that will transform downtown Neosho into a Dickens-like atmosphere.&nbsp\; It will feature a Holiday Market (in Mills Park Centre building)\, Christmas Lighting in the Park and Breakfast with Santa in The Civic\, along with other free kids&rsquo\; activities.</span></span><br />\n&nbsp\;
LOCATION:Downtown Neosho
UID:e.2144.59
SEQUENCE:3
DTSTAMP:20260422T103723Z
URL:https://neoshocc.com/events/details/2014-christmas-parade-12-06-2014-59
END:VEVENT

END:VCALENDAR
