BEGIN:VCALENDAR
VERSION:2.0
PRODID:-//ChamberMaster//Event Calendar 2.0//EN
METHOD:PUBLISH
X-PUBLISHED-TTL:P3D
REFRESH-INTERVAL:P3D
CALSCALE:GREGORIAN
BEGIN:VEVENT
DTSTART:20141112T000000Z
DTEND:20141112T030000Z
X-MICROSOFT-CDO-ALLDAYEVENT:FALSE
SUMMARY:2014 Agriculture Appreciation Banquet
DESCRIPTION:Presented by the Neosho Area Chamber of Commerce and Opal Foods\, this annual event's focus is on the appreciation of the hardworking families and individuals of Newton and McDonald Counties that work to further Missouri Agriculture. We want to come together and provide a wonderful meal and program to show our appreciation to them.\n\n\n\nGuest speaker will be Susie Oberdahlhoff. "SusieO" entertains audiences across the country with her wit and wisdom. She is a city-born\, preacher's kid turned farm-wife and will share her unique perspective and reminder to laugh at life.
X-ALT-DESC;FMTTYPE=text/html:Presented by the Neosho Area Chamber of Commerce and Opal Foods\, this annual event&#39\;s focus is on the appreciation of the hardworking families and individuals of Newton and McDonald Counties that work to further Missouri Agriculture. We want to come together and provide a wonderful meal and program to show our appreciation to them.<br />\n<br />\nGuest speaker will be Susie Oberdahlhoff. &quot\;SusieO&quot\; entertains audiences across the country with her wit and wisdom. She is a city-born\, preacher&#39\;s kid turned farm-wife and will share her unique perspective and reminder to laugh at life.
LOCATION:Neosho High School Cafeteria 511 Neosho Blvd. Neosho\, MO 64850
UID:e.2144.36
SEQUENCE:3
DTSTAMP:20260422T121421Z
URL:https://neoshocc.com/events/details/2014-agriculture-appreciation-banquet-11-11-2014-36
END:VEVENT

END:VCALENDAR
