BEGIN:VCALENDAR
VERSION:2.0
PRODID:-//ChamberMaster//Event Calendar 2.0//EN
METHOD:PUBLISH
X-PUBLISHED-TTL:P3D
REFRESH-INTERVAL:P3D
CALSCALE:GREGORIAN
BEGIN:VEVENT
DTSTART:20260605T140000Z
DTEND:20260605T200000Z
X-MICROSOFT-CDO-ALLDAYEVENT:FALSE
SUMMARY:1st Friday Kid Fishing Day
DESCRIPTION:For children aged 7-12 and will be held in two sessions: 9AM-11AM and 1PM-3PM. Online Registration opens on May 1st\, or you can call (417)451-0554. Regisrtations will also be accepted during the sessions\, with a limit of 250 kids per session.
X-ALT-DESC;FMTTYPE=text/html:For children aged 7-12 and will be held in two sessions: 9AM-11AM and 1PM-3PM. Online Registration opens on May 1st\, or you can call (417)451-0554. Regisrtations will also be accepted during the sessions\, with a limit of 250 kids per session.&nbsp\;
LOCATION:Neosho National Fish Hatchery
UID:e.2144.19233
SEQUENCE:3
DTSTAMP:20260420T031347Z
URL:https://neoshocc.com/events/details/1st-friday-kid-fishing-day-19233
END:VEVENT

END:VCALENDAR
