BEGIN:VCALENDAR
VERSION:2.0
PRODID:-//ChamberMaster//Event Calendar 2.0//EN
METHOD:PUBLISH
X-PUBLISHED-TTL:P3D
REFRESH-INTERVAL:P3D
CALSCALE:GREGORIAN
BEGIN:VEVENT
DTSTART;VALUE=DATE:20160430
DTEND;VALUE=DATE:20160501
TRANSP:TRANSPARENT
X-MICROSOFT-CDO-ALLDAYEVENT:TRUE
SUMMARY:1st Annual Roughrider Car Show
DESCRIPTION:Hosted by Crowder College Foundation
X-ALT-DESC;FMTTYPE=text/html:Hosted by Crowder College Foundation
LOCATION:Parking Lot in front of the Arnold Farber Building 10:00am-3:00pm
UID:e.2144.1554
SEQUENCE:3
DTSTAMP:20260421T115103Z
URL:https://neoshocc.com/events/details/1st-annual-roughrider-car-show-04-30-2016-1554
END:VEVENT

END:VCALENDAR
