BEGIN:VCALENDAR
VERSION:2.0
PRODID:-//ChamberMaster//Event Calendar 2.0//EN
METHOD:PUBLISH
X-PUBLISHED-TTL:P3D
REFRESH-INTERVAL:P3D
CALSCALE:GREGORIAN
BEGIN:VEVENT
DTSTART:20230506T220000Z
DTEND:20230507T020000Z
X-MICROSOFT-CDO-ALLDAYEVENT:FALSE
SUMMARY:1st Annual Kentucky Derby Party
DESCRIPTION:Get your biggest\, fanciest hat ready!\nJoin us for the 1st Annual Kentucky Derby Party\, it is hosted by the Neosho Area Chapter of Soroptimist International. Event is being held at Brian & Thistle/Indian Springs Brewery.\n\n\n\nThere will be prizes\, games\, specialty adult drinks\, and an hors d'oeurves buffet. Place your bets for the winning horse (that night or at local business on the Neosho Square or CL Nutrition in Webb City)\, enter the best dr3essed contest and try to win the award for the best derby hat! \n\n\n\nTickets are $25 per person (get tickets now at Briar & Thistle (on the Neosho Square))\, ticket includes al of the fun\, hos d'oeurves\, and the after party in the Indian Springs Event Center. There will be cash/credit card bar where beer will be tapped in the Event center. You can go to Briar & Thistle or call 417-389-5177 for your tickets. Please get tickets ahead of time so we know how much food we need. \n\n\n\nTicket sales and bets go to benefit the Neosho Area Chapter of Soroptimist International. This organization helps support young women by providing metorship and educational opportunitites.
X-ALT-DESC;FMTTYPE=text/html:<h2 style="font-style:italic\;">Get your biggest\, fanciest hat ready!</h2>\nJoin us for the 1st Annual Kentucky Derby Party\, it is hosted by the Neosho Area Chapter of Soroptimist International. Event is being held at Brian &amp\; Thistle/Indian Springs Brewery.<br />\n<br />\nThere will be prizes\, games\, specialty adult drinks\, and an hors d&#39\;oeurves buffet. Place your bets for the winning horse (that night or at local business on the Neosho Square or CL Nutrition in Webb City)\, enter the best dr3essed contest and try to win the award for the best derby hat!&nbsp\;<br />\n<br />\nTickets are $25 per person (get tickets now at Briar &amp\; Thistle (on the Neosho Square))\, ticket includes al of the fun\, hos d&#39\;oeurves\, and the after party in the Indian Springs Event Center. There will be cash/credit card bar where beer will be tapped in the Event center. You can go to Briar &amp\; Thistle or call 417-389-5177 for your tickets. Please get tickets ahead of time so we know how much food we need.&nbsp\;<br />\n<br />\nTicket sales and bets go to benefit the Neosho Area Chapter of Soroptimist International. This organization helps support young women by providing metorship and educational opportunitites.&nbsp\;
LOCATION:Briar & Thistle 107 E Main St\, Neosho\, MO 64850. 417-389-5177
UID:e.2144.9914
SEQUENCE:3
DTSTAMP:20260425T214439Z
URL:https://neoshocc.com/events/details/1st-annual-kentucky-derby-party-9914
END:VEVENT

END:VCALENDAR
