BEGIN:VCALENDAR
VERSION:2.0
PRODID:-//ChamberMaster//Event Calendar 2.0//EN
METHOD:PUBLISH
X-PUBLISHED-TTL:P3D
REFRESH-INTERVAL:P3D
CALSCALE:GREGORIAN
BEGIN:VEVENT
DTSTART:20150516T180000Z
DTEND:20150516T200000Z
X-MICROSOFT-CDO-ALLDAYEVENT:FALSE
SUMMARY:1st Annual Car & Bike Show - Harlan's Automotive
DESCRIPTION:Harlan's Automotive is hosting their 1st Annual Car & Bike Show\, Saturday\, May 16th from 1pm to 3pm
X-ALT-DESC;FMTTYPE=text/html:Harlan&#39\;s Automotive is hosting their 1st Annual Car &amp\; Bike Show\, Saturday\, May 16th from 1pm to 3pm
LOCATION:Harlan's Automotive 12001 Holly Road Neosho\, MO
UID:e.2144.247
SEQUENCE:3
DTSTAMP:20260422T044058Z
URL:https://neoshocc.com/events/details/1st-annual-car-bike-show-harlan-s-automotive-05-16-2015-247
END:VEVENT

END:VCALENDAR
