BEGIN:VCALENDAR
VERSION:2.0
PRODID:-//ChamberMaster//Event Calendar 2.0//EN
METHOD:PUBLISH
X-PUBLISHED-TTL:P3D
REFRESH-INTERVAL:P3D
CALSCALE:GREGORIAN
BEGIN:VEVENT
DTSTART:20160206T230000Z
DTEND:20160207T030000Z
X-MICROSOFT-CDO-ALLDAYEVENT:FALSE
SUMMARY:15th Annual Christopher Foundation Gospel Celebration
DESCRIPTION:15th Annual Christopher Foundation Gospel Celebration.  This event includes gospel singing\, chili/hot dog supper and silent auction.  Food and entertainment are provided for free but a love offering  will be accepted.
X-ALT-DESC;FMTTYPE=text/html:15th Annual Christopher Foundation Gospel Celebration.&nbsp\; This event includes gospel singing\, chili/hot dog supper and silent auction.&nbsp\; Food and entertainment are provided for free but a love offering&nbsp\; will be accepted.
LOCATION:First Baptist Church 12325 Highway 86 Neosho (next to New Mac Electric)
UID:e.2144.1581
SEQUENCE:3
DTSTAMP:20260421T130323Z
URL:https://neoshocc.com/events/details/15th-annual-christopher-foundation-gospel-celebration-02-06-2016-1581
END:VEVENT

END:VCALENDAR
