BEGIN:VCALENDAR
VERSION:2.0
PRODID:-//ChamberMaster//Event Calendar 2.0//EN
METHOD:PUBLISH
X-PUBLISHED-TTL:P3D
REFRESH-INTERVAL:P3D
CALSCALE:GREGORIAN
BEGIN:VEVENT
DTSTART:20151117T220000Z
DTEND:20151118T030000Z
X-MICROSOFT-CDO-ALLDAYEVENT:FALSE
SUMMARY:13th Annual Festival of Wreaths - Crowder College
DESCRIPTION:13th Annual Festival of Wreaths Benefitting the Crowder College Foundation will be held Tuesday\, November 17th at the Elsie Plaster Community Center on the Campus of Crowder College
X-ALT-DESC;FMTTYPE=text/html:13th Annual Festival of Wreaths Benefitting the Crowder College Foundation will be held Tuesday\, November 17th at the Elsie Plaster Community Center on the Campus of Crowder College
LOCATION:Elsie Plaster Community Center Crowder College Neosho Campus
UID:e.2144.1495
SEQUENCE:3
DTSTAMP:20260421T185256Z
URL:https://neoshocc.com/events/details/13th-annual-festival-of-wreaths-crowder-college-11-17-2015-1495
END:VEVENT

END:VCALENDAR
