BEGIN:VCALENDAR
VERSION:2.0
PRODID:-//ChamberMaster//Event Calendar 2.0//EN
METHOD:PUBLISH
X-PUBLISHED-TTL:P3D
REFRESH-INTERVAL:P3D
CALSCALE:GREGORIAN
BEGIN:VEVENT
DTSTART:20141118T220000Z
DTEND:20141119T010000Z
X-MICROSOFT-CDO-ALLDAYEVENT:FALSE
SUMMARY:12th Annual Festival of Wreaths Benefitting Crowder College Foundation
DESCRIPTION:The 12th Annual Festival of Wreaths Benefitting Crowder College Foundation will be held Tuesday\, November 18th\, 2014 at the Elsie Plaster Community Center at Crowder College.
X-ALT-DESC;FMTTYPE=text/html:The 12th Annual Festival of Wreaths Benefitting Crowder College Foundation will be held Tuesday\, November 18th\, 2014 at the Elsie Plaster Community Center at Crowder College.
LOCATION:Elsie Plaster Community Center Crowder College\, Neosho
UID:e.2144.79
SEQUENCE:3
DTSTAMP:20260422T122216Z
URL:https://neoshocc.com/events/details/12th-annual-festival-of-wreaths-benefitting-crowder-college-foundation-11-18-2014-79
END:VEVENT

END:VCALENDAR
